BEGIN:VCALENDAR
VERSION:2.0
PRODID:-//SKTCOOP - ECPv5.8.2//NONSGML v1.0//EN
CALSCALE:GREGORIAN
METHOD:PUBLISH
X-WR-CALNAME:SKTCOOP
X-ORIGINAL-URL:https://sktcoop.net
X-WR-CALDESC:Events for SKTCOOP
BEGIN:VTIMEZONE
TZID:Asia/Bangkok
BEGIN:STANDARD
TZOFFSETFROM:+0700
TZOFFSETTO:+0700
TZNAME:+07
DTSTART:20250101T000000
END:STANDARD
END:VTIMEZONE
BEGIN:VEVENT
DTSTART;TZID=Asia/Bangkok:20250304T133000
DTEND;TZID=Asia/Bangkok:20250304T150000
DTSTAMP:20260422T153551
CREATED:20250115T092841Z
LAST-MODIFIED:20250115T092841Z
UID:3964-1741095000-1741100400@sktcoop.net
SUMMARY:ประชุมเงินกู้
DESCRIPTION:-::~:~::~:~:~:~:~:~:~:~:~:~:~:~:~:~:~:~:~:~:~:~:~:~:~:~:~:~:~:~:~:~:~:~:~:~:~:~::~:~::-Join with Google Meet: https://meet.google.com/avw-ceck-qmm \nLearn more about Meet at: https://support.google.com/a/users/answer/9282720 \nPlease do not edit this section.-::~:~::~:~:~:~:~:~:~:~:~:~:~:~:~:~:~:~:~:~:~:~:~:~:~:~:~:~:~:~:~:~:~:~:~:~:~:~::~:~::-
URL:https://sktcoop.net/event/%e0%b8%9b%e0%b8%a3%e0%b8%b0%e0%b8%8a%e0%b8%b8%e0%b8%a1%e0%b9%80%e0%b8%87%e0%b8%b4%e0%b8%99%e0%b8%81%e0%b8%b9%e0%b9%89-33/
CATEGORIES:ปฏิทินสหกรณ์-gmail-2564
ORGANIZER;CN="sktcoop%40gmail.com":MAILTO:sktcoop@gmail_com
END:VEVENT
BEGIN:VEVENT
DTSTART;TZID=Asia/Bangkok:20250306T133000
DTEND;TZID=Asia/Bangkok:20250306T150000
DTSTAMP:20260422T153551
CREATED:20250115T092841Z
LAST-MODIFIED:20250115T092841Z
UID:3965-1741267800-1741273200@sktcoop.net
SUMMARY:ประชุมสวัสดิการ
DESCRIPTION:-::~:~::~:~:~:~:~:~:~:~:~:~:~:~:~:~:~:~:~:~:~:~:~:~:~:~:~:~:~:~:~:~:~:~:~:~:~:~::~:~::-Join with Google Meet: https://meet.google.com/njn-iwoa-pbn \nLearn more about Meet at: https://support.google.com/a/users/answer/9282720 \nPlease do not edit this section.-::~:~::~:~:~:~:~:~:~:~:~:~:~:~:~:~:~:~:~:~:~:~:~:~:~:~:~:~:~:~:~:~:~:~:~:~:~:~::~:~::-
URL:https://sktcoop.net/event/%e0%b8%9b%e0%b8%a3%e0%b8%b0%e0%b8%8a%e0%b8%b8%e0%b8%a1%e0%b8%aa%e0%b8%a7%e0%b8%b1%e0%b8%aa%e0%b8%94%e0%b8%b4%e0%b8%81%e0%b8%b2%e0%b8%a3-14/
CATEGORIES:ปฏิทินสหกรณ์-gmail-2564
ORGANIZER;CN="sktcoop%40gmail.com":MAILTO:sktcoop@gmail_com
END:VEVENT
BEGIN:VEVENT
DTSTART;TZID=Asia/Bangkok:20250310T133000
DTEND;TZID=Asia/Bangkok:20250310T150000
DTSTAMP:20260422T153551
CREATED:20250115T092841Z
LAST-MODIFIED:20250115T092841Z
UID:3966-1741613400-1741618800@sktcoop.net
SUMMARY:ประชุมติดตามหนี้
DESCRIPTION:-::~:~::~:~:~:~:~:~:~:~:~:~:~:~:~:~:~:~:~:~:~:~:~:~:~:~:~:~:~:~:~:~:~:~:~:~:~:~::~:~::-Join with Google Meet: https://meet.google.com/trz-hhie-ajn \nLearn more about Meet at: https://support.google.com/a/users/answer/9282720 \nPlease do not edit this section.-::~:~::~:~:~:~:~:~:~:~:~:~:~:~:~:~:~:~:~:~:~:~:~:~:~:~:~:~:~:~:~:~:~:~:~:~:~:~::~:~::-
URL:https://sktcoop.net/event/%e0%b8%9b%e0%b8%a3%e0%b8%b0%e0%b8%8a%e0%b8%b8%e0%b8%a1%e0%b8%95%e0%b8%b4%e0%b8%94%e0%b8%95%e0%b8%b2%e0%b8%a1%e0%b8%ab%e0%b8%99%e0%b8%b5%e0%b9%89-16/
CATEGORIES:ปฏิทินสหกรณ์-gmail-2564
ORGANIZER;CN="sktcoop%40gmail.com":MAILTO:sktcoop@gmail_com
END:VEVENT
BEGIN:VEVENT
DTSTART;TZID=Asia/Bangkok:20250313T133000
DTEND;TZID=Asia/Bangkok:20250313T150000
DTSTAMP:20260422T153551
CREATED:20250115T092842Z
LAST-MODIFIED:20250115T092842Z
UID:3967-1741872600-1741878000@sktcoop.net
SUMMARY:ประชุมอำนวยการ
DESCRIPTION:-::~:~::~:~:~:~:~:~:~:~:~:~:~:~:~:~:~:~:~:~:~:~:~:~:~:~:~:~:~:~:~:~:~:~:~:~:~:~::~:~::-Join with Google Meet: https://meet.google.com/yzt-dypf-nkv \nLearn more about Meet at: https://support.google.com/a/users/answer/9282720 \nPlease do not edit this section.-::~:~::~:~:~:~:~:~:~:~:~:~:~:~:~:~:~:~:~:~:~:~:~:~:~:~:~:~:~:~:~:~:~:~:~:~:~:~::~:~::-
URL:https://sktcoop.net/event/%e0%b8%9b%e0%b8%a3%e0%b8%b0%e0%b8%8a%e0%b8%b8%e0%b8%a1%e0%b8%ad%e0%b8%b3%e0%b8%99%e0%b8%a7%e0%b8%a2%e0%b8%81%e0%b8%b2%e0%b8%a3-15/
CATEGORIES:ปฏิทินสหกรณ์-gmail-2564
ORGANIZER;CN="sktcoop%40gmail.com":MAILTO:sktcoop@gmail_com
END:VEVENT
BEGIN:VEVENT
DTSTART;VALUE=DATE:20250314
DTEND;VALUE=DATE:20250315
DTSTAMP:20260422T153551
CREATED:20250115T092842Z
LAST-MODIFIED:20250115T092842Z
UID:3968-1741910400-1741996799@sktcoop.net
SUMMARY:จ่ายเงินกู้
DESCRIPTION:
URL:https://sktcoop.net/event/%e0%b8%88%e0%b9%88%e0%b8%b2%e0%b8%a2%e0%b9%80%e0%b8%87%e0%b8%b4%e0%b8%99%e0%b8%81%e0%b8%b9%e0%b9%89-38/
CATEGORIES:ปฏิทินสหกรณ์-gmail-2564
END:VEVENT
BEGIN:VEVENT
DTSTART;TZID=Asia/Bangkok:20250318T090000
DTEND;TZID=Asia/Bangkok:20250318T150000
DTSTAMP:20260422T153551
CREATED:20250115T092842Z
LAST-MODIFIED:20250115T092842Z
UID:3969-1742288400-1742310000@sktcoop.net
SUMMARY:ประชุมดำเนินการ
DESCRIPTION:-::~:~::~:~:~:~:~:~:~:~:~:~:~:~:~:~:~:~:~:~:~:~:~:~:~:~:~:~:~:~:~:~:~:~:~:~:~:~::~:~::-Join with Google Meet: https://meet.google.com/fws-bqhi-pmz \nLearn more about Meet at: https://support.google.com/a/users/answer/9282720 \nPlease do not edit this section.-::~:~::~:~:~:~:~:~:~:~:~:~:~:~:~:~:~:~:~:~:~:~:~:~:~:~:~:~:~:~:~:~:~:~:~:~:~:~::~:~::-
URL:https://sktcoop.net/event/%e0%b8%9b%e0%b8%a3%e0%b8%b0%e0%b8%8a%e0%b8%b8%e0%b8%a1%e0%b8%94%e0%b8%b3%e0%b9%80%e0%b8%99%e0%b8%b4%e0%b8%99%e0%b8%81%e0%b8%b2%e0%b8%a3-17/
CATEGORIES:ปฏิทินสหกรณ์-gmail-2564
ORGANIZER;CN="sktcoop%40gmail.com":MAILTO:sktcoop@gmail_com
END:VEVENT
BEGIN:VEVENT
DTSTART;TZID=Asia/Bangkok:20250319T133000
DTEND;TZID=Asia/Bangkok:20250319T150000
DTSTAMP:20260422T153551
CREATED:20250115T092842Z
LAST-MODIFIED:20250115T092842Z
UID:3970-1742391000-1742396400@sktcoop.net
SUMMARY:ประชุมศึกษา
DESCRIPTION:-::~:~::~:~:~:~:~:~:~:~:~:~:~:~:~:~:~:~:~:~:~:~:~:~:~:~:~:~:~:~:~:~:~:~:~:~:~:~::~:~::-Join with Google Meet: https://meet.google.com/arh-nixj-hqg \nLearn more about Meet at: https://support.google.com/a/users/answer/9282720 \nPlease do not edit this section.-::~:~::~:~:~:~:~:~:~:~:~:~:~:~:~:~:~:~:~:~:~:~:~:~:~:~:~:~:~:~:~:~:~:~:~:~:~:~::~:~::-
URL:https://sktcoop.net/event/%e0%b8%9b%e0%b8%a3%e0%b8%b0%e0%b8%8a%e0%b8%b8%e0%b8%a1%e0%b8%a8%e0%b8%b6%e0%b8%81%e0%b8%a9%e0%b8%b2-17/
CATEGORIES:ปฏิทินสหกรณ์-gmail-2564
ORGANIZER;CN="sktcoop%40gmail.com":MAILTO:sktcoop@gmail_com
END:VEVENT
BEGIN:VEVENT
DTSTART;TZID=Asia/Bangkok:20250324T133000
DTEND;TZID=Asia/Bangkok:20250324T150000
DTSTAMP:20260422T153551
CREATED:20250115T092842Z
LAST-MODIFIED:20250115T092842Z
UID:3971-1742823000-1742828400@sktcoop.net
SUMMARY:ประชุมเงินกู้
DESCRIPTION:-::~:~::~:~:~:~:~:~:~:~:~:~:~:~:~:~:~:~:~:~:~:~:~:~:~:~:~:~:~:~:~:~:~:~:~:~:~:~::~:~::-Join with Google Meet: https://meet.google.com/tge-kjby-xsb \nLearn more about Meet at: https://support.google.com/a/users/answer/9282720 \nPlease do not edit this section.-::~:~::~:~:~:~:~:~:~:~:~:~:~:~:~:~:~:~:~:~:~:~:~:~:~:~:~:~:~:~:~:~:~:~:~:~:~:~::~:~::-
URL:https://sktcoop.net/event/%e0%b8%9b%e0%b8%a3%e0%b8%b0%e0%b8%8a%e0%b8%b8%e0%b8%a1%e0%b9%80%e0%b8%87%e0%b8%b4%e0%b8%99%e0%b8%81%e0%b8%b9%e0%b9%89-34/
CATEGORIES:ปฏิทินสหกรณ์-gmail-2564
ORGANIZER;CN="sktcoop%40gmail.com":MAILTO:sktcoop@gmail_com
END:VEVENT
BEGIN:VEVENT
DTSTART;VALUE=DATE:20250331
DTEND;VALUE=DATE:20250401
DTSTAMP:20260422T153551
CREATED:20250115T092843Z
LAST-MODIFIED:20250115T092843Z
UID:3972-1743379200-1743465599@sktcoop.net
SUMMARY:จ่ายเงินกู้
DESCRIPTION:
URL:https://sktcoop.net/event/%e0%b8%88%e0%b9%88%e0%b8%b2%e0%b8%a2%e0%b9%80%e0%b8%87%e0%b8%b4%e0%b8%99%e0%b8%81%e0%b8%b9%e0%b9%89-39/
CATEGORIES:ปฏิทินสหกรณ์-gmail-2564
END:VEVENT
END:VCALENDAR