BEGIN:VCALENDAR
VERSION:2.0
PRODID:-//SKTCOOP - ECPv5.8.2//NONSGML v1.0//EN
CALSCALE:GREGORIAN
METHOD:PUBLISH
X-WR-CALNAME:SKTCOOP
X-ORIGINAL-URL:https://sktcoop.net
X-WR-CALDESC:Events for SKTCOOP
BEGIN:VTIMEZONE
TZID:Asia/Bangkok
BEGIN:STANDARD
TZOFFSETFROM:+0700
TZOFFSETTO:+0700
TZNAME:+07
DTSTART:20230101T000000
END:STANDARD
END:VTIMEZONE
BEGIN:VEVENT
DTSTART;VALUE=DATE:20230906
DTEND;VALUE=DATE:20230907
DTSTAMP:20260420T183210
CREATED:20230228T022603Z
LAST-MODIFIED:20230228T022603Z
UID:3132-1693958400-1694044799@sktcoop.net
SUMMARY:ประชุมสวัสดิการ เวลา 13.30 น.
DESCRIPTION:
URL:https://sktcoop.net/event/%e0%b8%9b%e0%b8%a3%e0%b8%b0%e0%b8%8a%e0%b8%b8%e0%b8%a1%e0%b8%aa%e0%b8%a7%e0%b8%b1%e0%b8%aa%e0%b8%94%e0%b8%b4%e0%b8%81%e0%b8%b2%e0%b8%a3-%e0%b9%80%e0%b8%a7%e0%b8%a5%e0%b8%b2-13-30-%e0%b8%99-12/
LOCATION:สหกรณ์ออมทรัพย์ครูสุโขทัย จำกัด\, 118 ถนน จรดวิถีถ่อง ตำบล ธานี อำเภอเมืองสุโขทัย สุโขทัย 64000 ประเทศไทย\, สหกรณ์ออมทรัพย์ครูสุโขทัย จำกัด\, 118 ถนน จรดวิถีถ่อง ตำบล ธานี อำเภอเมืองสุโขทัย สุโขทัย 64000 ประเทศไทย
CATEGORIES:ปฏิทินสหกรณ์-gmail-2564
ORGANIZER;CN="sktcoop%40gmail.com":MAILTO:sktcoop@gmail_com
END:VEVENT
BEGIN:VEVENT
DTSTART;VALUE=DATE:20230907
DTEND;VALUE=DATE:20230908
DTSTAMP:20260420T183210
CREATED:20230228T022603Z
LAST-MODIFIED:20230228T022603Z
UID:3133-1694044800-1694131199@sktcoop.net
SUMMARY:ประชุมติดตามหนี้ เวลา 13.30 น.
DESCRIPTION:
URL:https://sktcoop.net/event/%e0%b8%9b%e0%b8%a3%e0%b8%b0%e0%b8%8a%e0%b8%b8%e0%b8%a1%e0%b8%95%e0%b8%b4%e0%b8%94%e0%b8%95%e0%b8%b2%e0%b8%a1%e0%b8%ab%e0%b8%99%e0%b8%b5%e0%b9%89-%e0%b9%80%e0%b8%a7%e0%b8%a5%e0%b8%b2-13-30-%e0%b8%99-11/
LOCATION:สหกรณ์ออมทรัพย์ครูสุโขทัย จำกัด\, 118 ถนน จรดวิถีถ่อง ตำบล ธานี อำเภอเมืองสุโขทัย สุโขทัย 64000 ประเทศไทย\, สหกรณ์ออมทรัพย์ครูสุโขทัย จำกัด\, 118 ถนน จรดวิถีถ่อง ตำบล ธานี อำเภอเมืองสุโขทัย สุโขทัย 64000 ประเทศไทย
CATEGORIES:ปฏิทินสหกรณ์-gmail-2564
ORGANIZER;CN="sktcoop%40gmail.com":MAILTO:sktcoop@gmail_com
END:VEVENT
BEGIN:VEVENT
DTSTART;VALUE=DATE:20230912
DTEND;VALUE=DATE:20230913
DTSTAMP:20260420T183210
CREATED:20230906T034158Z
LAST-MODIFIED:20230906T034158Z
UID:3281-1694476800-1694563199@sktcoop.net
SUMMARY:จ่ายเงินกู้
DESCRIPTION:
URL:https://sktcoop.net/event/%e0%b8%88%e0%b9%88%e0%b8%b2%e0%b8%a2%e0%b9%80%e0%b8%87%e0%b8%b4%e0%b8%99%e0%b8%81%e0%b8%b9%e0%b9%89-5/
CATEGORIES:ปฏิทินสหกรณ์-gmail-2564
END:VEVENT
BEGIN:VEVENT
DTSTART;TZID=Asia/Bangkok:20230913T133000
DTEND;TZID=Asia/Bangkok:20230913T163000
DTSTAMP:20260420T183210
CREATED:20230906T034159Z
LAST-MODIFIED:20230906T034159Z
UID:3282-1694611800-1694622600@sktcoop.net
SUMMARY:ประชุมอำนวยการ เวลา 13.30 น.
DESCRIPTION:
URL:https://sktcoop.net/event/%e0%b8%9b%e0%b8%a3%e0%b8%b0%e0%b8%8a%e0%b8%b8%e0%b8%a1%e0%b8%ad%e0%b8%b3%e0%b8%99%e0%b8%a7%e0%b8%a2%e0%b8%81%e0%b8%b2%e0%b8%a3-%e0%b9%80%e0%b8%a7%e0%b8%a5%e0%b8%b2-13-30-%e0%b8%99-10/
CATEGORIES:ปฏิทินสหกรณ์-gmail-2564
ORGANIZER;CN="sktcoop%40gmail.com":MAILTO:sktcoop@gmail_com
END:VEVENT
BEGIN:VEVENT
DTSTART;TZID=Asia/Bangkok:20230919T090000
DTEND;TZID=Asia/Bangkok:20230919T163000
DTSTAMP:20260420T183210
CREATED:20230906T034159Z
LAST-MODIFIED:20230906T034159Z
UID:3283-1695114000-1695141000@sktcoop.net
SUMMARY:ประชุมดำเนินการ
DESCRIPTION:-::~:~::~:~:~:~:~:~:~:~:~:~:~:~:~:~:~:~:~:~:~:~:~:~:~:~:~:~:~:~:~:~:~:~:~:~:~:~::~:~::-Join with Google Meet: https://meet.google.com/qod-jmfb-cik \nLearn more about Meet at: https://support.google.com/a/users/answer/9282720 \nPlease do not edit this section.-::~:~::~:~:~:~:~:~:~:~:~:~:~:~:~:~:~:~:~:~:~:~:~:~:~:~:~:~:~:~:~:~:~:~:~:~:~:~::~:~::-
URL:https://sktcoop.net/event/%e0%b8%9b%e0%b8%a3%e0%b8%b0%e0%b8%8a%e0%b8%b8%e0%b8%a1%e0%b8%94%e0%b8%b3%e0%b9%80%e0%b8%99%e0%b8%b4%e0%b8%99%e0%b8%81%e0%b8%b2%e0%b8%a3/
CATEGORIES:ปฏิทินสหกรณ์-gmail-2564
ORGANIZER;CN="sktcoop%40gmail.com":MAILTO:sktcoop@gmail_com
END:VEVENT
BEGIN:VEVENT
DTSTART;TZID=Asia/Bangkok:20230920T133000
DTEND;TZID=Asia/Bangkok:20230920T163000
DTSTAMP:20260420T183210
CREATED:20230906T034159Z
LAST-MODIFIED:20230906T034159Z
UID:3284-1695216600-1695227400@sktcoop.net
SUMMARY:ประชุมศึกษา
DESCRIPTION:
URL:https://sktcoop.net/event/%e0%b8%9b%e0%b8%a3%e0%b8%b0%e0%b8%8a%e0%b8%b8%e0%b8%a1%e0%b8%a8%e0%b8%b6%e0%b8%81%e0%b8%a9%e0%b8%b2/
CATEGORIES:ปฏิทินสหกรณ์-gmail-2564
ORGANIZER;CN="sktcoop%40gmail.com":MAILTO:sktcoop@gmail_com
END:VEVENT
BEGIN:VEVENT
DTSTART;TZID=Asia/Bangkok:20230922T133000
DTEND;TZID=Asia/Bangkok:20230922T163000
DTSTAMP:20260420T183210
CREATED:20230906T034159Z
LAST-MODIFIED:20230906T034159Z
UID:3285-1695389400-1695400200@sktcoop.net
SUMMARY:ประชุมเงินกู้
DESCRIPTION:
URL:https://sktcoop.net/event/%e0%b8%9b%e0%b8%a3%e0%b8%b0%e0%b8%8a%e0%b8%b8%e0%b8%a1%e0%b9%80%e0%b8%87%e0%b8%b4%e0%b8%99%e0%b8%81%e0%b8%b9%e0%b9%89-3/
CATEGORIES:ปฏิทินสหกรณ์-gmail-2564
ORGANIZER;CN="sktcoop%40gmail.com":MAILTO:sktcoop@gmail_com
END:VEVENT
BEGIN:VEVENT
DTSTART;VALUE=DATE:20230929
DTEND;VALUE=DATE:20230930
DTSTAMP:20260420T183210
CREATED:20230906T034159Z
LAST-MODIFIED:20230906T034159Z
UID:3286-1695945600-1696031999@sktcoop.net
SUMMARY:จ่ายเงินกู้
DESCRIPTION:
URL:https://sktcoop.net/event/%e0%b8%88%e0%b9%88%e0%b8%b2%e0%b8%a2%e0%b9%80%e0%b8%87%e0%b8%b4%e0%b8%99%e0%b8%81%e0%b8%b9%e0%b9%89-6/
CATEGORIES:ปฏิทินสหกรณ์-gmail-2564
END:VEVENT
END:VCALENDAR