BEGIN:VCALENDAR
VERSION:2.0
PRODID:-//SKTCOOP - ECPv5.8.2//NONSGML v1.0//EN
CALSCALE:GREGORIAN
METHOD:PUBLISH
X-WR-CALNAME:SKTCOOP
X-ORIGINAL-URL:https://sktcoop.net
X-WR-CALDESC:Events for SKTCOOP
BEGIN:VTIMEZONE
TZID:Asia/Bangkok
BEGIN:STANDARD
TZOFFSETFROM:+0700
TZOFFSETTO:+0700
TZNAME:+07
DTSTART:20220101T000000
END:STANDARD
END:VTIMEZONE
BEGIN:VEVENT
DTSTART;VALUE=DATE:20221004
DTEND;VALUE=DATE:20221005
DTSTAMP:20260425T180107
CREATED:20230228T022552Z
LAST-MODIFIED:20230228T022552Z
UID:3038-1664841600-1664927999@sktcoop.net
SUMMARY:ประชุมเงินกู้ เวลา 13.30 น.
DESCRIPTION:
URL:https://sktcoop.net/event/%e0%b8%9b%e0%b8%a3%e0%b8%b0%e0%b8%8a%e0%b8%b8%e0%b8%a1%e0%b9%80%e0%b8%87%e0%b8%b4%e0%b8%99%e0%b8%81%e0%b8%b9%e0%b9%89-%e0%b9%80%e0%b8%a7%e0%b8%a5%e0%b8%b2-13-30-%e0%b8%99-4/
CATEGORIES:ปฏิทินสหกรณ์-gmail-2564
ORGANIZER;CN="sktcoop%40gmail.com":MAILTO:sktcoop@gmail_com
END:VEVENT
BEGIN:VEVENT
DTSTART;VALUE=DATE:20221006
DTEND;VALUE=DATE:20221007
DTSTAMP:20260425T180107
CREATED:20230228T022552Z
LAST-MODIFIED:20230228T022552Z
UID:3039-1665014400-1665100799@sktcoop.net
SUMMARY:คณะอนุกรรมการ การจ่ายเงินให้กับเจ้าหน้าที่ เวลา 9.30 น.
DESCRIPTION:
URL:https://sktcoop.net/event/%e0%b8%84%e0%b8%93%e0%b8%b0%e0%b8%ad%e0%b8%99%e0%b8%b8%e0%b8%81%e0%b8%a3%e0%b8%a3%e0%b8%a1%e0%b8%81%e0%b8%b2%e0%b8%a3-%e0%b8%81%e0%b8%b2%e0%b8%a3%e0%b8%88%e0%b9%88%e0%b8%b2%e0%b8%a2%e0%b9%80%e0%b8%87/
CATEGORIES:ปฏิทินสหกรณ์-gmail-2564
ORGANIZER;CN="sktcoop%40gmail.com":MAILTO:sktcoop@gmail_com
END:VEVENT
BEGIN:VEVENT
DTSTART;VALUE=DATE:20221006
DTEND;VALUE=DATE:20221007
DTSTAMP:20260425T180107
CREATED:20230228T022552Z
LAST-MODIFIED:20230228T022552Z
UID:3040-1665014400-1665100799@sktcoop.net
SUMMARY:ประชุมสวัสดิการ เวลา 13.30 น.
DESCRIPTION:
URL:https://sktcoop.net/event/%e0%b8%9b%e0%b8%a3%e0%b8%b0%e0%b8%8a%e0%b8%b8%e0%b8%a1%e0%b8%aa%e0%b8%a7%e0%b8%b1%e0%b8%aa%e0%b8%94%e0%b8%b4%e0%b8%81%e0%b8%b2%e0%b8%a3-%e0%b9%80%e0%b8%a7%e0%b8%a5%e0%b8%b2-13-30-%e0%b8%99-6/
CATEGORIES:ปฏิทินสหกรณ์-gmail-2564
ORGANIZER;CN="sktcoop%40gmail.com":MAILTO:sktcoop@gmail_com
END:VEVENT
BEGIN:VEVENT
DTSTART;VALUE=DATE:20221007
DTEND;VALUE=DATE:20221008
DTSTAMP:20260425T180107
CREATED:20230228T022553Z
LAST-MODIFIED:20230228T022553Z
UID:3041-1665100800-1665187199@sktcoop.net
SUMMARY:ประชุมติดตามหนี้ เวลา 13.30 น.
DESCRIPTION:
URL:https://sktcoop.net/event/%e0%b8%9b%e0%b8%a3%e0%b8%b0%e0%b8%8a%e0%b8%b8%e0%b8%a1%e0%b8%95%e0%b8%b4%e0%b8%94%e0%b8%95%e0%b8%b2%e0%b8%a1%e0%b8%ab%e0%b8%99%e0%b8%b5%e0%b9%89-%e0%b9%80%e0%b8%a7%e0%b8%a5%e0%b8%b2-13-30-%e0%b8%99-5/
CATEGORIES:ปฏิทินสหกรณ์-gmail-2564
ORGANIZER;CN="sktcoop%40gmail.com":MAILTO:sktcoop@gmail_com
END:VEVENT
BEGIN:VEVENT
DTSTART;VALUE=DATE:20221007
DTEND;VALUE=DATE:20221008
DTSTAMP:20260425T180107
CREATED:20230228T022553Z
LAST-MODIFIED:20230228T022553Z
UID:3042-1665100800-1665187199@sktcoop.net
SUMMARY:คณะอนุกรรมการ สหกรณ์ดีเด่น เวลา 9.30 น.
DESCRIPTION:
URL:https://sktcoop.net/event/%e0%b8%84%e0%b8%93%e0%b8%b0%e0%b8%ad%e0%b8%99%e0%b8%b8%e0%b8%81%e0%b8%a3%e0%b8%a3%e0%b8%a1%e0%b8%81%e0%b8%b2%e0%b8%a3-%e0%b8%aa%e0%b8%ab%e0%b8%81%e0%b8%a3%e0%b8%93%e0%b9%8c%e0%b8%94%e0%b8%b5%e0%b9%80/
CATEGORIES:ปฏิทินสหกรณ์-gmail-2564
ORGANIZER;CN="sktcoop%40gmail.com":MAILTO:sktcoop@gmail_com
END:VEVENT
BEGIN:VEVENT
DTSTART;VALUE=DATE:20221010
DTEND;VALUE=DATE:20221011
DTSTAMP:20260425T180107
CREATED:20230228T022553Z
LAST-MODIFIED:20230228T022553Z
UID:3043-1665360000-1665446399@sktcoop.net
SUMMARY:สรรหาบริษัทประกัน เวลา 9.30 น.
DESCRIPTION:
URL:https://sktcoop.net/event/%e0%b8%aa%e0%b8%a3%e0%b8%a3%e0%b8%ab%e0%b8%b2%e0%b8%9a%e0%b8%a3%e0%b8%b4%e0%b8%a9%e0%b8%b1%e0%b8%97%e0%b8%9b%e0%b8%a3%e0%b8%b0%e0%b8%81%e0%b8%b1%e0%b8%99-%e0%b9%80%e0%b8%a7%e0%b8%a5%e0%b8%b2-9-30/
CATEGORIES:ปฏิทินสหกรณ์-gmail-2564
ORGANIZER;CN="sktcoop%40gmail.com":MAILTO:sktcoop@gmail_com
END:VEVENT
BEGIN:VEVENT
DTSTART;VALUE=DATE:20221010
DTEND;VALUE=DATE:20221011
DTSTAMP:20260425T180107
CREATED:20230228T022553Z
LAST-MODIFIED:20230228T022553Z
UID:3044-1665360000-1665446399@sktcoop.net
SUMMARY:คณะอนุกรรมการบริหารความเสี่ยง เวลา 13.30 น.
DESCRIPTION:
URL:https://sktcoop.net/event/%e0%b8%84%e0%b8%93%e0%b8%b0%e0%b8%ad%e0%b8%99%e0%b8%b8%e0%b8%81%e0%b8%a3%e0%b8%a3%e0%b8%a1%e0%b8%81%e0%b8%b2%e0%b8%a3%e0%b8%9a%e0%b8%a3%e0%b8%b4%e0%b8%ab%e0%b8%b2%e0%b8%a3%e0%b8%84%e0%b8%a7%e0%b8%b2/
CATEGORIES:ปฏิทินสหกรณ์-gmail-2564
ORGANIZER;CN="sktcoop%40gmail.com":MAILTO:sktcoop@gmail_com
END:VEVENT
BEGIN:VEVENT
DTSTART;VALUE=DATE:20221012
DTEND;VALUE=DATE:20221013
DTSTAMP:20260425T180107
CREATED:20230228T022553Z
LAST-MODIFIED:20230228T022553Z
UID:3045-1665532800-1665619199@sktcoop.net
SUMMARY:ประชุมอำนวยการ เวลา 9.30 น.
DESCRIPTION:
URL:https://sktcoop.net/event/%e0%b8%9b%e0%b8%a3%e0%b8%b0%e0%b8%8a%e0%b8%b8%e0%b8%a1%e0%b8%ad%e0%b8%b3%e0%b8%99%e0%b8%a7%e0%b8%a2%e0%b8%81%e0%b8%b2%e0%b8%a3-%e0%b9%80%e0%b8%a7%e0%b8%a5%e0%b8%b2-9-30-%e0%b8%99/
CATEGORIES:ปฏิทินสหกรณ์-gmail-2564
ORGANIZER;CN="sktcoop%40gmail.com":MAILTO:sktcoop@gmail_com
END:VEVENT
BEGIN:VEVENT
DTSTART;VALUE=DATE:20221018
DTEND;VALUE=DATE:20221019
DTSTAMP:20260425T180107
CREATED:20230228T022553Z
LAST-MODIFIED:20230228T022553Z
UID:3046-1666051200-1666137599@sktcoop.net
SUMMARY:ประชุมดำเนินการ เวลา 09.00 น.
DESCRIPTION:
URL:https://sktcoop.net/event/%e0%b8%9b%e0%b8%a3%e0%b8%b0%e0%b8%8a%e0%b8%b8%e0%b8%a1%e0%b8%94%e0%b8%b3%e0%b9%80%e0%b8%99%e0%b8%b4%e0%b8%99%e0%b8%81%e0%b8%b2%e0%b8%a3-%e0%b9%80%e0%b8%a7%e0%b8%a5%e0%b8%b2-09-00-%e0%b8%99-4/
CATEGORIES:ปฏิทินสหกรณ์-gmail-2564
ORGANIZER;CN="sktcoop%40gmail.com":MAILTO:sktcoop@gmail_com
END:VEVENT
BEGIN:VEVENT
DTSTART;VALUE=DATE:20221019
DTEND;VALUE=DATE:20221020
DTSTAMP:20260425T180107
CREATED:20230228T022553Z
LAST-MODIFIED:20230228T022553Z
UID:3047-1666137600-1666223999@sktcoop.net
SUMMARY:ประชุมศึกษาและประชาสัมพันธ์ เวลา 13.30 น.
DESCRIPTION:
URL:https://sktcoop.net/event/%e0%b8%9b%e0%b8%a3%e0%b8%b0%e0%b8%8a%e0%b8%b8%e0%b8%a1%e0%b8%a8%e0%b8%b6%e0%b8%81%e0%b8%a9%e0%b8%b2%e0%b9%81%e0%b8%a5%e0%b8%b0%e0%b8%9b%e0%b8%a3%e0%b8%b0%e0%b8%8a%e0%b8%b2%e0%b8%aa%e0%b8%b1%e0%b8%a1-4/
CATEGORIES:ปฏิทินสหกรณ์-gmail-2564
ORGANIZER;CN="sktcoop%40gmail.com":MAILTO:sktcoop@gmail_com
END:VEVENT
BEGIN:VEVENT
DTSTART;VALUE=DATE:20221021
DTEND;VALUE=DATE:20221022
DTSTAMP:20260425T180107
CREATED:20230228T022553Z
LAST-MODIFIED:20230228T022553Z
UID:3048-1666310400-1666396799@sktcoop.net
SUMMARY:ประชุุมเงินกู้ เวลา 13.30 น.
DESCRIPTION:
URL:https://sktcoop.net/event/%e0%b8%9b%e0%b8%a3%e0%b8%b0%e0%b8%8a%e0%b8%b8%e0%b8%b8%e0%b8%a1%e0%b9%80%e0%b8%87%e0%b8%b4%e0%b8%99%e0%b8%81%e0%b8%b9%e0%b9%89-%e0%b9%80%e0%b8%a7%e0%b8%a5%e0%b8%b2-13-30-%e0%b8%99/
CATEGORIES:ปฏิทินสหกรณ์-gmail-2564
ORGANIZER;CN="sktcoop%40gmail.com":MAILTO:sktcoop@gmail_com
END:VEVENT
END:VCALENDAR