BEGIN:VCALENDAR
VERSION:2.0
PRODID:-//SKTCOOP - ECPv5.8.2//NONSGML v1.0//EN
CALSCALE:GREGORIAN
METHOD:PUBLISH
X-WR-CALNAME:SKTCOOP
X-ORIGINAL-URL:https://sktcoop.net
X-WR-CALDESC:Events for SKTCOOP
BEGIN:VTIMEZONE
TZID:Asia/Bangkok
BEGIN:STANDARD
TZOFFSETFROM:+0700
TZOFFSETTO:+0700
TZNAME:+07
DTSTART:20240101T000000
END:STANDARD
END:VTIMEZONE
BEGIN:VEVENT
DTSTART;VALUE=DATE:20240720
DTEND;VALUE=DATE:20240721
DTSTAMP:20260423T211333
CREATED:20240102T071638Z
LAST-MODIFIED:20240102T071638Z
UID:3452-1721433600-1721519999@sktcoop.net
SUMMARY:วันเข้าพรรษา
DESCRIPTION:วันหยุดนักขัตฤกษ์
URL:https://sktcoop.net/event/%e0%b8%a7%e0%b8%b1%e0%b8%99%e0%b9%80%e0%b8%82%e0%b9%89%e0%b8%b2%e0%b8%9e%e0%b8%a3%e0%b8%a3%e0%b8%a9%e0%b8%b2-2/
CATEGORIES:วันหยุดไทย 2567
END:VEVENT
BEGIN:VEVENT
DTSTART;VALUE=DATE:20240722
DTEND;VALUE=DATE:20240723
DTSTAMP:20260423T211333
CREATED:20240102T071638Z
LAST-MODIFIED:20240102T071638Z
UID:3453-1721606400-1721692799@sktcoop.net
SUMMARY:วันหยุดชดเชยวันเข้าพรรษา
DESCRIPTION:วันหยุดนักขัตฤกษ์
URL:https://sktcoop.net/event/%e0%b8%a7%e0%b8%b1%e0%b8%99%e0%b8%ab%e0%b8%a2%e0%b8%b8%e0%b8%94%e0%b8%8a%e0%b8%94%e0%b9%80%e0%b8%8a%e0%b8%a2%e0%b8%a7%e0%b8%b1%e0%b8%99%e0%b9%80%e0%b8%82%e0%b9%89%e0%b8%b2%e0%b8%9e%e0%b8%a3%e0%b8%a3/
CATEGORIES:วันหยุดไทย 2567
END:VEVENT
BEGIN:VEVENT
DTSTART;VALUE=DATE:20240728
DTEND;VALUE=DATE:20240729
DTSTAMP:20260423T211333
CREATED:20240102T071638Z
LAST-MODIFIED:20240102T071638Z
UID:3454-1722124800-1722211199@sktcoop.net
SUMMARY:วันเฉลิมพระชนมพรรษา สมเด็จพระเจ้าอยู่หัวมหาวชิราลงกรณ บดินทรเทพยวรางกูร
DESCRIPTION:วันหยุดนักขัตฤกษ์
URL:https://sktcoop.net/event/%e0%b8%a7%e0%b8%b1%e0%b8%99%e0%b9%80%e0%b8%89%e0%b8%a5%e0%b8%b4%e0%b8%a1%e0%b8%9e%e0%b8%a3%e0%b8%b0%e0%b8%8a%e0%b8%99%e0%b8%a1%e0%b8%9e%e0%b8%a3%e0%b8%a3%e0%b8%a9%e0%b8%b2-%e0%b8%aa%e0%b8%a1%e0%b9%80/
CATEGORIES:วันหยุดไทย 2567
END:VEVENT
BEGIN:VEVENT
DTSTART;VALUE=DATE:20240729
DTEND;VALUE=DATE:20240730
DTSTAMP:20260423T211333
CREATED:20240102T071638Z
LAST-MODIFIED:20240102T071638Z
UID:3455-1722211200-1722297599@sktcoop.net
SUMMARY:วันหยุดชดเชยวันเฉลิมพระชนมพรรษา สมเด็จพระเจ้าอยู่หัวมหาวชิราลงกรณ บดินทรเทพยวรางกูร
DESCRIPTION:วันหยุดนักขัตฤกษ์
URL:https://sktcoop.net/event/%e0%b8%a7%e0%b8%b1%e0%b8%99%e0%b8%ab%e0%b8%a2%e0%b8%b8%e0%b8%94%e0%b8%8a%e0%b8%94%e0%b9%80%e0%b8%8a%e0%b8%a2%e0%b8%a7%e0%b8%b1%e0%b8%99%e0%b9%80%e0%b8%89%e0%b8%a5%e0%b8%b4%e0%b8%a1%e0%b8%9e%e0%b8%a3/
CATEGORIES:วันหยุดไทย 2567
END:VEVENT
END:VCALENDAR