BEGIN:VCALENDAR
VERSION:2.0
PRODID:-//SKTCOOP - ECPv5.8.2//NONSGML v1.0//EN
CALSCALE:GREGORIAN
METHOD:PUBLISH
X-WR-CALNAME:SKTCOOP
X-ORIGINAL-URL:https://sktcoop.net
X-WR-CALDESC:Events for SKTCOOP
BEGIN:VTIMEZONE
TZID:Asia/Bangkok
BEGIN:STANDARD
TZOFFSETFROM:+0700
TZOFFSETTO:+0700
TZNAME:+07
DTSTART:20220101T000000
END:STANDARD
END:VTIMEZONE
BEGIN:VEVENT
DTSTART;VALUE=DATE:20221116
DTEND;VALUE=DATE:20221117
DTSTAMP:20260423T225618
CREATED:20230228T022555Z
LAST-MODIFIED:20230228T022555Z
UID:3060-1668556800-1668643199@sktcoop.net
SUMMARY:ประชุมเปิดซองผู้สอบบัญชีเอกชน เวลา 13.30 น.
DESCRIPTION:
URL:https://sktcoop.net/event/%e0%b8%9b%e0%b8%a3%e0%b8%b0%e0%b8%8a%e0%b8%b8%e0%b8%a1%e0%b9%80%e0%b8%9b%e0%b8%b4%e0%b8%94%e0%b8%8b%e0%b8%ad%e0%b8%87%e0%b8%9c%e0%b8%b9%e0%b9%89%e0%b8%aa%e0%b8%ad%e0%b8%9a%e0%b8%9a%e0%b8%b1%e0%b8%8d/
LOCATION:สหกรณ์ออมทรัพย์ครูสุโขทัย จำกัด\, 118 ถนน จรดวิถีถ่อง ตำบล ธานี อำเภอเมืองสุโขทัย สุโขทัย 64000 ประเทศไทย\, สหกรณ์ออมทรัพย์ครูสุโขทัย จำกัด\, 118 ถนน จรดวิถีถ่อง ตำบล ธานี อำเภอเมืองสุโขทัย สุโขทัย 64000 ประเทศไทย
CATEGORIES:ปฏิทินสหกรณ์-gmail-2564
ORGANIZER;CN="sktcoop%40gmail.com":MAILTO:sktcoop@gmail_com
END:VEVENT
BEGIN:VEVENT
DTSTART;VALUE=DATE:20221116
DTEND;VALUE=DATE:20221117
DTSTAMP:20260423T225618
CREATED:20230228T022555Z
LAST-MODIFIED:20230228T022555Z
UID:3061-1668556800-1668643199@sktcoop.net
SUMMARY:ประชุมผู้มีสิทธิเข้ารับการสรรหา เวลา 09.00 น.
DESCRIPTION:
URL:https://sktcoop.net/event/%e0%b8%9b%e0%b8%a3%e0%b8%b0%e0%b8%8a%e0%b8%b8%e0%b8%a1%e0%b8%9c%e0%b8%b9%e0%b9%89%e0%b8%a1%e0%b8%b5%e0%b8%aa%e0%b8%b4%e0%b8%97%e0%b8%98%e0%b8%b4%e0%b9%80%e0%b8%82%e0%b9%89%e0%b8%b2%e0%b8%a3%e0%b8%b1/
LOCATION:สหกรณ์ออมทรัพย์ครูสุโขทัย จำกัด\, 224 ม.7 ธานี เมือง ตำบล บ้านกล้วย อำเภอเมืองสุโขทัย สุโขทัย 64000 ประเทศไทย\, สหกรณ์ออมทรัพย์ครูสุโขทัย จำกัด\, 224 ม.7 ธานี เมือง ตำบล บ้านกล้วย อำเภอเมืองสุโขทัย สุโขทัย 64000 ประเทศไทย
CATEGORIES:ปฏิทินสหกรณ์-gmail-2564
ORGANIZER;CN="sktcoop%40gmail.com":MAILTO:sktcoop@gmail_com
END:VEVENT
END:VCALENDAR